BEGIN:VCALENDAR
VERSION:2.0
PRODID:-//North Texas Snap - ECPv6.15.20//NONSGML v1.0//EN
CALSCALE:GREGORIAN
METHOD:PUBLISH
X-WR-CALNAME:North Texas Snap
X-ORIGINAL-URL:https://www.ntxsnap.org
X-WR-CALDESC:Events for North Texas Snap
REFRESH-INTERVAL;VALUE=DURATION:PT1H
X-Robots-Tag:noindex
X-PUBLISHED-TTL:PT1H
BEGIN:VTIMEZONE
TZID:America/Chicago
BEGIN:DAYLIGHT
TZOFFSETFROM:-0600
TZOFFSETTO:-0500
TZNAME:CDT
DTSTART:20250309T080000
END:DAYLIGHT
BEGIN:STANDARD
TZOFFSETFROM:-0500
TZOFFSETTO:-0600
TZNAME:CST
DTSTART:20251102T070000
END:STANDARD
BEGIN:DAYLIGHT
TZOFFSETFROM:-0600
TZOFFSETTO:-0500
TZNAME:CDT
DTSTART:20260308T080000
END:DAYLIGHT
BEGIN:STANDARD
TZOFFSETFROM:-0500
TZOFFSETTO:-0600
TZNAME:CST
DTSTART:20261101T070000
END:STANDARD
BEGIN:DAYLIGHT
TZOFFSETFROM:-0600
TZOFFSETTO:-0500
TZNAME:CDT
DTSTART:20270314T080000
END:DAYLIGHT
BEGIN:STANDARD
TZOFFSETFROM:-0500
TZOFFSETTO:-0600
TZNAME:CST
DTSTART:20271107T070000
END:STANDARD
END:VTIMEZONE
BEGIN:VEVENT
DTSTART;TZID=America/Chicago:20260309T180000
DTEND;TZID=America/Chicago:20260602T203000
DTSTAMP:20260424T020444
CREATED:20250812T214154Z
LAST-MODIFIED:20260305T214115Z
UID:2048-1773079200-1780432200@www.ntxsnap.org
SUMMARY:Make Music with Sonya
DESCRIPTION:March Class Dates: 9th & 23rd \nGroup 1 Class RSVP: 6:00 – 7:00pm \n(Group 1 is for those new to music class\, benefit from a smaller group\, or need an earlier time) \nGroup 2 Class RSVP:  7:15 – 8:30pm \n 
URL:https://www.ntxsnap.org/event/make-music-with-sonya-2/
LOCATION:NTX Snap Bldg.\, 1000 Church Street\, Colleyville\, TX\, 76034\, United States
END:VEVENT
BEGIN:VEVENT
DTSTART;TZID=America/Chicago:20260424T183000
DTEND;TZID=America/Chicago:20260424T203000
DTSTAMP:20260424T020444
CREATED:20250812T153211Z
LAST-MODIFIED:20260414T021411Z
UID:2026-1777055400-1777062600@www.ntxsnap.org
SUMMARY:Men's Club
DESCRIPTION:☔️ 4/24 Men’s Club  \nSuper Heroes Night! Wear your favorite super hero t-shirt and share what you love about your hero! \nPay for Pizza dinner here in order to RSVP by 4/22 \n5 volunteers needed. \nIf you plan to attend\, but are not eating pizza – please RSVP here. \n  \n 
URL:https://www.ntxsnap.org/event/mens-club/
LOCATION:NTX Snap Bldg.\, 1000 Church Street\, Colleyville\, TX\, 76034\, United States
ATTACH;FMTTYPE=image/png:https://www.ntxsnap.org/wp-content/uploads/2023/06/Screen-Shot-2024-01-20-at-9.38.08-PM.png
END:VEVENT
END:VCALENDAR