BEGIN:VCALENDAR
VERSION:2.0
PRODID:-//North Texas Snap - ECPv6.15.20//NONSGML v1.0//EN
CALSCALE:GREGORIAN
METHOD:PUBLISH
X-WR-CALNAME:North Texas Snap
X-ORIGINAL-URL:https://www.ntxsnap.org
X-WR-CALDESC:Events for North Texas Snap
REFRESH-INTERVAL;VALUE=DURATION:PT1H
X-Robots-Tag:noindex
X-PUBLISHED-TTL:PT1H
BEGIN:VTIMEZONE
TZID:America/Chicago
BEGIN:DAYLIGHT
TZOFFSETFROM:-0600
TZOFFSETTO:-0500
TZNAME:CDT
DTSTART:20180311T080000
END:DAYLIGHT
BEGIN:STANDARD
TZOFFSETFROM:-0500
TZOFFSETTO:-0600
TZNAME:CST
DTSTART:20181104T070000
END:STANDARD
BEGIN:DAYLIGHT
TZOFFSETFROM:-0600
TZOFFSETTO:-0500
TZNAME:CDT
DTSTART:20190310T080000
END:DAYLIGHT
BEGIN:STANDARD
TZOFFSETFROM:-0500
TZOFFSETTO:-0600
TZNAME:CST
DTSTART:20191103T070000
END:STANDARD
BEGIN:DAYLIGHT
TZOFFSETFROM:-0600
TZOFFSETTO:-0500
TZNAME:CDT
DTSTART:20200308T080000
END:DAYLIGHT
BEGIN:STANDARD
TZOFFSETFROM:-0500
TZOFFSETTO:-0600
TZNAME:CST
DTSTART:20201101T070000
END:STANDARD
END:VTIMEZONE
BEGIN:VEVENT
DTSTART;TZID=America/Chicago:20191121T110000
DTEND;TZID=America/Chicago:20191121T230000
DTSTAMP:20260421T105513
CREATED:20191118T183550Z
LAST-MODIFIED:20191119T183620Z
UID:267-1574334000-1574377200@www.ntxsnap.org
SUMMARY:Restaurant Fundraiser
DESCRIPTION:On the Border Restaurant Fundraiser\n \nHelp support North Texas SNAP programs!\n20% of all meals will go towards programs to help adults with intellectual and developmental disabilities.\n\nBEST PART: THE EVENT IS ALL DAY!\nCan’t make it for dinner? Come grab some lunch on your lunch break!! \nOn the Border Mexican Grill & Cantina\n2500 Airport Freeway\nBedford\, Texas 76022 \nPlease make sure to RSVP here so that we receive all of the funds: https://www.groupraise.com/events/119794
URL:https://www.ntxsnap.org/event/restaurant-fund-raiser/
LOCATION:On the border\, 2500 Airport Freeway\, Bedford\, TX\, 76022\, United States
CATEGORIES:Fundraiser
ATTACH;FMTTYPE=image/jpeg:https://www.ntxsnap.org/wp-content/uploads/2019/11/75233730_10156302671187041_2612724401107369984_o.jpg
END:VEVENT
END:VCALENDAR